BEGIN:VCALENDAR
VERSION:2.0
PRODID:-//The Banner School - ECPv6.15.3//NONSGML v1.0//EN
CALSCALE:GREGORIAN
METHOD:PUBLISH
X-ORIGINAL-URL:https://www.thebannerschool.org
X-WR-CALDESC:Events for The Banner School
REFRESH-INTERVAL;VALUE=DURATION:PT1H
X-Robots-Tag:noindex
X-PUBLISHED-TTL:PT1H
BEGIN:VTIMEZONE
TZID:America/Halifax
BEGIN:DAYLIGHT
TZOFFSETFROM:-0400
TZOFFSETTO:-0300
TZNAME:ADT
DTSTART:20180311T060000
END:DAYLIGHT
BEGIN:STANDARD
TZOFFSETFROM:-0300
TZOFFSETTO:-0400
TZNAME:AST
DTSTART:20181104T050000
END:STANDARD
END:VTIMEZONE
BEGIN:VEVENT
DTSTART;TZID=America/Halifax:20180517T142000
DTEND;TZID=America/Halifax:20180517T150000
DTSTAMP:20260424T201518
CREATED:20180513T114916Z
LAST-MODIFIED:20180517T175502Z
UID:1219-1526566800-1526569200@www.thebannerschool.org
SUMMARY:Spring Concert- CANCELLED for tonight
DESCRIPTION:The Band and Chorus is open to students in Grades 2-8. This year our band is comprised of 20 students\, playing a variety of percussion\, string and wind instruments under the direction of John Hage\, Director of Performing Arts.  There is also an evening performance at 7:00 p.m.
URL:https://www.thebannerschool.org/event/spring-concert/
CATEGORIES:Banner Community Event,Performance
END:VEVENT
BEGIN:VEVENT
DTSTART;TZID=America/Halifax:20180516T183000
DTEND;TZID=America/Halifax:20180516T203000
DTSTAMP:20260424T201518
CREATED:20180513T115410Z
LAST-MODIFIED:20180513T115410Z
UID:1221-1526495400-1526502600@www.thebannerschool.org
SUMMARY:Class of 2014 Reunion Dinner
DESCRIPTION:Each year in the spring Banner hosts a celebration dinner for our former graduates who are graduating from high school. Graduates and family and former teachers gather to honor their accomplishments and wish them well on their life’s journey.
URL:https://www.thebannerschool.org/event/class-2014-reunion-dinner/
CATEGORIES:Banner Community Event
END:VEVENT
BEGIN:VEVENT
DTSTART;TZID=America/Halifax:20180510T130000
DTEND;TZID=America/Halifax:20180510T140000
DTSTAMP:20260424T201518
CREATED:20180510T162516Z
LAST-MODIFIED:20180510T162516Z
UID:1200-1525957200-1525960800@www.thebannerschool.org
SUMMARY:8th Grade Parent Luncheon
DESCRIPTION:Each year we honor our graduates’ parents with a luncheon to discuss their children’s big event – graduation – a special Banner School tradition. Held at FCC\, the students speak\, receive acknowledgment from teachers and peers\, perform musical selections and receive their diplomas. An award is presented to the student chosen by the Faculty to represent Banner in the community.
URL:https://www.thebannerschool.org/event/8th-grade-parent-luncheon/
CATEGORIES:Banner Community Event
END:VEVENT
BEGIN:VEVENT
DTSTART;TZID=America/Halifax:20180418T183000
DTEND;TZID=America/Halifax:20180418T183000
DTSTAMP:20260424T201518
CREATED:20180323T135702Z
LAST-MODIFIED:20180323T135819Z
UID:982-1524076200-1524076200@www.thebannerschool.org
SUMMARY:Middle School Information Night
DESCRIPTION:
URL:https://www.thebannerschool.org/event/middle-school-information-night/
CATEGORIES:Banner Community Event,Community Event
END:VEVENT
BEGIN:VEVENT
DTSTART;TZID=America/Halifax:20180418T093000
DTEND;TZID=America/Halifax:20180418T103000
DTSTAMP:20260424T201518
CREATED:20180326T160456Z
LAST-MODIFIED:20180326T202603Z
UID:987-1524043800-1524047400@www.thebannerschool.org
SUMMARY:Preschool Story Time - Dig into Reading
DESCRIPTION:Treat your child to a story and craft and learn about our Preschool options!
URL:https://www.thebannerschool.org/event/preschool-story-time-dig-reading/
CATEGORIES:Banner Community Event
END:VEVENT
BEGIN:VEVENT
DTSTART;VALUE=DATE:20180328
DTEND;VALUE=DATE:20180329
DTSTAMP:20260424T201518
CREATED:20180322T163435Z
LAST-MODIFIED:20180322T163435Z
UID:973-1522195200-1522281599@www.thebannerschool.org
SUMMARY:Science Fair
DESCRIPTION:
URL:https://www.thebannerschool.org/event/science-fair/
CATEGORIES:Banner Community Event
END:VEVENT
BEGIN:VEVENT
DTSTART;TZID=America/Halifax:20180308T142000
DTEND;TZID=America/Halifax:20180308T150000
DTSTAMP:20260424T201518
CREATED:20180227T180401Z
LAST-MODIFIED:20180308T195447Z
UID:648-1520518800-1520521200@www.thebannerschool.org
SUMMARY:3rd Grade Show - "On the Right Track"
DESCRIPTION:3rd graders will perform an uplifting musical all about trains and working together. Featured songs will be about Engine Number nine and the famous engineer\, Casey Jones. Can the kids solve the mystery and restore Old Number nine? Get on board and join us to see the 3rd grade get on the right track. Shows at 2:20 p.m. and 7:00 p.m.
URL:https://www.thebannerschool.org/event/3rd-grade-show-right-track/
CATEGORIES:Banner Community Event,Performance
END:VEVENT
BEGIN:VEVENT
DTSTART;TZID=America/Halifax:20180307T090000
DTEND;TZID=America/Halifax:20180307T133000
DTSTAMP:20260424T201518
CREATED:20180224T005804Z
LAST-MODIFIED:20180224T010030Z
UID:624-1520413200-1520429400@www.thebannerschool.org
SUMMARY:International Day
DESCRIPTION:Travel with us to celebrate customs and foods from around the world. Our community is diverse! Featured will be presentations\, songs and dances by a number of the classes and parents. Food dishes will be served at lunch time and parents are welcomed to join their children at lunch. Students may dress in international costume attire.
URL:https://www.thebannerschool.org/event/international-day/
CATEGORIES:Banner Community Event
END:VEVENT
BEGIN:VEVENT
DTSTART;TZID=America/Halifax:20180307T090000
DTEND;TZID=America/Halifax:20180307T110000
DTSTAMP:20260424T201518
CREATED:20180305T230019Z
LAST-MODIFIED:20180305T230159Z
UID:674-1520413200-1520420400@www.thebannerschool.org
SUMMARY:OPEN HOUSE
DESCRIPTION:Join us to tour our classrooms and meet our teachers and staff. Catch a glimpse of one of our weekly All-School Assemblies. Come to learn about The Banner School Difference! Open House will be located in our center building\, Botkin Hall. Parking is to the right/rear of the building as you come around the center circle.
URL:https://www.thebannerschool.org/event/open-house/
CATEGORIES:Banner Community Event,Community Event
END:VEVENT
BEGIN:VEVENT
DTSTART;VALUE=DATE:20180228
DTEND;VALUE=DATE:20180301
DTSTAMP:20260424T201518
CREATED:20180224T005536Z
LAST-MODIFIED:20180228T172718Z
UID:622-1519776000-1519862399@www.thebannerschool.org
SUMMARY:Plight of the Wolverines
DESCRIPTION:This is a special presentation for all-school assembly prepared by 1st graders who have researched this unusual nearly extinct mammal.
URL:https://www.thebannerschool.org/event/plight-of-the-wolverines/
LOCATION:The Banner School Auditorium\, 1730 North Market Street\, Frederick\, MD\, 21701\, United States
CATEGORIES:Banner Community Event
END:VEVENT
BEGIN:VEVENT
DTSTART;TZID=America/Halifax:20180224T100000
DTEND;TZID=America/Halifax:20180225T120000
DTSTAMP:20260424T201518
CREATED:20180213T184024Z
LAST-MODIFIED:20180224T151455Z
UID:88-1519466400-1519560000@www.thebannerschool.org
SUMMARY:DISCOVERY CAMP OPEN HOUSE
DESCRIPTION:Join us from 10 a.m. until Noon in Botkin Hall to hear about our exciting plans for Summer Discovery Camp 2018! There will be outside vendors to share their programs\, a Raffle and a $20 coupon for a discount on camp. Pick up a brochure and register online while you are here! \n 
URL:https://www.thebannerschool.org/event/event-2/
LOCATION:The Banner School Auditorium\, 1730 North Market Street\, Frederick\, MD\, 21701\, United States
CATEGORIES:Banner Community Event,Community Event
END:VEVENT
BEGIN:VEVENT
DTSTART;TZID=America/Halifax:20180222T183000
DTEND;TZID=America/Halifax:20180222T203000
DTSTAMP:20260424T201518
CREATED:20180213T183947Z
LAST-MODIFIED:20180222T000601Z
UID:85-1519324200-1519331400@www.thebannerschool.org
SUMMARY:State of the School
DESCRIPTION:State of the School \nHonor the Past\, Celebrate the Present and Preserve the Future. Join us for a wine and cheese tasting with the dedication of Nisenfeld Hall and remarks from our Board President and Officers highlighting the State of the School and its future.
URL:https://www.thebannerschool.org/event/event-1/
LOCATION:Botkin Hall
CATEGORIES:Banner Community Event
END:VEVENT
END:VCALENDAR