BEGIN:VCALENDAR
VERSION:2.0
PRODID:-//The Banner School - ECPv6.15.3//NONSGML v1.0//EN
CALSCALE:GREGORIAN
METHOD:PUBLISH
X-ORIGINAL-URL:https://www.thebannerschool.org
X-WR-CALDESC:Events for The Banner School
REFRESH-INTERVAL;VALUE=DURATION:PT1H
X-Robots-Tag:noindex
X-PUBLISHED-TTL:PT1H
BEGIN:VTIMEZONE
TZID:America/Halifax
BEGIN:DAYLIGHT
TZOFFSETFROM:-0400
TZOFFSETTO:-0300
TZNAME:ADT
DTSTART:20180311T060000
END:DAYLIGHT
BEGIN:STANDARD
TZOFFSETFROM:-0300
TZOFFSETTO:-0400
TZNAME:AST
DTSTART:20181104T050000
END:STANDARD
END:VTIMEZONE
BEGIN:VEVENT
DTSTART;TZID=America/Halifax:20181017T090000
DTEND;TZID=America/Halifax:20181017T110000
DTSTAMP:20260424T215825
CREATED:20181008T155747Z
LAST-MODIFIED:20181008T155927Z
UID:1349-1539766800-1539774000@www.thebannerschool.org
SUMMARY:Open House
DESCRIPTION:Discover the Banner School difference! This event provides an excellent opportunity to meet our faculty members and ask questions about our curriculum\, program\, and policies. \nPlease RSVP to the Admissions Office at 301-695-9320 or jpratt@bannerschool.org
URL:https://www.thebannerschool.org/event/open-house-6/
CATEGORIES:Community Event
END:VEVENT
BEGIN:VEVENT
DTSTART;TZID=America/Halifax:20180919T090000
DTEND;TZID=America/Halifax:20180919T110000
DTSTAMP:20260424T215825
CREATED:20180713T212044Z
LAST-MODIFIED:20180713T212044Z
UID:1300-1537347600-1537354800@www.thebannerschool.org
SUMMARY:Open House
DESCRIPTION:Discover the Banner School difference! This event provides an excellent opportunity to meet our faculty members and ask questions about our curriculum\, program\, and policies. \nPlease RSVP to the Admissions Office at 301-695-9320 or jpratt@bannerschool.org
URL:https://www.thebannerschool.org/event/open-house-5/
CATEGORIES:Community Event
END:VEVENT
BEGIN:VEVENT
DTSTART;TZID=America/Halifax:20180801T090000
DTEND;TZID=America/Halifax:20180801T110000
DTSTAMP:20260424T215825
CREATED:20180713T210358Z
LAST-MODIFIED:20180724T170423Z
UID:1297-1533114000-1533121200@www.thebannerschool.org
SUMMARY:Summer Fun Fest & Open House
DESCRIPTION:  \nPlease RSVP to the Admissions Office at 301-695-9320 or jpratt@bannerschool.org
URL:https://www.thebannerschool.org/event/open-house-4/
CATEGORIES:Community Event
END:VEVENT
BEGIN:VEVENT
DTSTART;TZID=America/Halifax:20180711T090000
DTEND;TZID=America/Halifax:20180711T110000
DTSTAMP:20260424T215825
CREATED:20180710T212630Z
LAST-MODIFIED:20180710T212630Z
UID:1287-1531299600-1531306800@www.thebannerschool.org
SUMMARY:Open House
DESCRIPTION:Every day is a good day to stop in to see what Banner has to offer your child in Preschool through 8th grade. Join us specifically to tour the campus from 9-11 a.m. on 7/11. Meet administrators and faculty who may be on campus. Summer camp is also in session and busy preparations for the new academic year are in progress.
URL:https://www.thebannerschool.org/event/open-house-3/
CATEGORIES:Banner Community Event,Community Event
END:VEVENT
BEGIN:VEVENT
DTSTART;VALUE=DATE:20180611
DTEND;VALUE=DATE:20180616
DTSTAMP:20260424T215825
CREATED:20180602T115526Z
LAST-MODIFIED:20180602T115739Z
UID:1259-1528675200-1529107199@www.thebannerschool.org
SUMMARY:Summer Camp!
DESCRIPTION:Camp registration is continuous throughout the summer. Register for a week at a time! Join the fun at Banner School!
URL:https://www.thebannerschool.org/event/summer-camp-june-11-august-24th/
CATEGORIES:Banner Community Event,Community Event
END:VEVENT
BEGIN:VEVENT
DTSTART;VALUE=DATE:20180511
DTEND;VALUE=DATE:20180513
DTSTAMP:20260424T215825
CREATED:20180507T132019Z
LAST-MODIFIED:20180507T132019Z
UID:1184-1525996800-1526169599@www.thebannerschool.org
SUMMARY:Relay for Life
DESCRIPTION:The Banner School is annual host to Frederick County Relay for Life. Setup begins on Thursday and continues into Friday. The school is closed to students at noon on Friday and becomes a champion ground for supporters of the Frederick Relay for Life. It is our privilege to host this important event. See you there!
URL:https://www.thebannerschool.org/event/relay-for-life/
CATEGORIES:Community Event
END:VEVENT
BEGIN:VEVENT
DTSTART;TZID=America/Halifax:20180418T183000
DTEND;TZID=America/Halifax:20180418T183000
DTSTAMP:20260424T215825
CREATED:20180323T135702Z
LAST-MODIFIED:20180323T135819Z
UID:982-1524076200-1524076200@www.thebannerschool.org
SUMMARY:Middle School Information Night
DESCRIPTION:
URL:https://www.thebannerschool.org/event/middle-school-information-night/
CATEGORIES:Banner Community Event,Community Event
END:VEVENT
BEGIN:VEVENT
DTSTART;TZID=America/Halifax:20180307T090000
DTEND;TZID=America/Halifax:20180307T110000
DTSTAMP:20260424T215825
CREATED:20180305T230019Z
LAST-MODIFIED:20180305T230159Z
UID:674-1520413200-1520420400@www.thebannerschool.org
SUMMARY:OPEN HOUSE
DESCRIPTION:Join us to tour our classrooms and meet our teachers and staff. Catch a glimpse of one of our weekly All-School Assemblies. Come to learn about The Banner School Difference! Open House will be located in our center building\, Botkin Hall. Parking is to the right/rear of the building as you come around the center circle.
URL:https://www.thebannerschool.org/event/open-house/
CATEGORIES:Banner Community Event,Community Event
END:VEVENT
BEGIN:VEVENT
DTSTART;TZID=America/Halifax:20180224T100000
DTEND;TZID=America/Halifax:20180225T120000
DTSTAMP:20260424T215825
CREATED:20180213T184024Z
LAST-MODIFIED:20180224T151455Z
UID:88-1519466400-1519560000@www.thebannerschool.org
SUMMARY:DISCOVERY CAMP OPEN HOUSE
DESCRIPTION:Join us from 10 a.m. until Noon in Botkin Hall to hear about our exciting plans for Summer Discovery Camp 2018! There will be outside vendors to share their programs\, a Raffle and a $20 coupon for a discount on camp. Pick up a brochure and register online while you are here! \n 
URL:https://www.thebannerschool.org/event/event-2/
LOCATION:The Banner School Auditorium\, 1730 North Market Street\, Frederick\, MD\, 21701\, United States
CATEGORIES:Banner Community Event,Community Event
END:VEVENT
END:VCALENDAR