BEGIN:VCALENDAR
VERSION:2.0
PRODID:-//The Banner School - ECPv6.15.3//NONSGML v1.0//EN
CALSCALE:GREGORIAN
METHOD:PUBLISH
X-WR-CALNAME:The Banner School
X-ORIGINAL-URL:https://www.thebannerschool.org
X-WR-CALDESC:Events for The Banner School
REFRESH-INTERVAL;VALUE=DURATION:PT1H
X-Robots-Tag:noindex
X-PUBLISHED-TTL:PT1H
BEGIN:VTIMEZONE
TZID:America/Halifax
BEGIN:DAYLIGHT
TZOFFSETFROM:-0400
TZOFFSETTO:-0300
TZNAME:ADT
DTSTART:20180311T060000
END:DAYLIGHT
BEGIN:STANDARD
TZOFFSETFROM:-0300
TZOFFSETTO:-0400
TZNAME:AST
DTSTART:20181104T050000
END:STANDARD
END:VTIMEZONE
BEGIN:VEVENT
DTSTART;TZID=America/Halifax:20180523T090000
DTEND;TZID=America/Halifax:20180523T091500
DTSTAMP:20260424T194907
CREATED:20180522T142433Z
LAST-MODIFIED:20180522T142433Z
UID:1252-1527066000-1527066900@www.thebannerschool.org
SUMMARY:Weekly Assembly - Student Performance
DESCRIPTION:Our Wednesday weekly assemblies are gatherings of our entire school\, PreK-8th grade. News\, announcements\, speakers and special presentations occur. This week a 7th grader\, accompanied by a fifth and sixth grader\, will present two selections from the musical “Hamilton.”
URL:https://www.thebannerschool.org/event/weekly-assembly-student-performance/
CATEGORIES:Banner Community Event,Performance
END:VEVENT
BEGIN:VEVENT
DTSTART;TZID=America/Halifax:20180517T142000
DTEND;TZID=America/Halifax:20180517T150000
DTSTAMP:20260424T194907
CREATED:20180513T114916Z
LAST-MODIFIED:20180517T175502Z
UID:1219-1526566800-1526569200@www.thebannerschool.org
SUMMARY:Spring Concert- CANCELLED for tonight
DESCRIPTION:The Band and Chorus is open to students in Grades 2-8. This year our band is comprised of 20 students\, playing a variety of percussion\, string and wind instruments under the direction of John Hage\, Director of Performing Arts.  There is also an evening performance at 7:00 p.m.
URL:https://www.thebannerschool.org/event/spring-concert/
CATEGORIES:Banner Community Event,Performance
END:VEVENT
BEGIN:VEVENT
DTSTART;TZID=America/Halifax:20180308T142000
DTEND;TZID=America/Halifax:20180308T150000
DTSTAMP:20260424T194907
CREATED:20180227T180401Z
LAST-MODIFIED:20180308T195447Z
UID:648-1520518800-1520521200@www.thebannerschool.org
SUMMARY:3rd Grade Show - "On the Right Track"
DESCRIPTION:3rd graders will perform an uplifting musical all about trains and working together. Featured songs will be about Engine Number nine and the famous engineer\, Casey Jones. Can the kids solve the mystery and restore Old Number nine? Get on board and join us to see the 3rd grade get on the right track. Shows at 2:20 p.m. and 7:00 p.m.
URL:https://www.thebannerschool.org/event/3rd-grade-show-right-track/
CATEGORIES:Banner Community Event,Performance
END:VEVENT
END:VCALENDAR